BEGIN:VCALENDAR
VERSION:2.0
PRODID:-//Indiana Health Centers - ECPv6.15.13//NONSGML v1.0//EN
CALSCALE:GREGORIAN
METHOD:PUBLISH
X-ORIGINAL-URL:https://indianahealthonline.org
X-WR-CALDESC:Events for Indiana Health Centers
REFRESH-INTERVAL;VALUE=DURATION:PT1H
X-Robots-Tag:noindex
X-PUBLISHED-TTL:PT1H
BEGIN:VTIMEZONE
TZID:America/Indiana/Indianapolis
BEGIN:DAYLIGHT
TZOFFSETFROM:-0500
TZOFFSETTO:-0400
TZNAME:EDT
DTSTART:20240310T070000
END:DAYLIGHT
BEGIN:STANDARD
TZOFFSETFROM:-0400
TZOFFSETTO:-0500
TZNAME:EST
DTSTART:20241103T060000
END:STANDARD
BEGIN:DAYLIGHT
TZOFFSETFROM:-0500
TZOFFSETTO:-0400
TZNAME:EDT
DTSTART:20250309T070000
END:DAYLIGHT
BEGIN:STANDARD
TZOFFSETFROM:-0400
TZOFFSETTO:-0500
TZNAME:EST
DTSTART:20251102T060000
END:STANDARD
BEGIN:DAYLIGHT
TZOFFSETFROM:-0500
TZOFFSETTO:-0400
TZNAME:EDT
DTSTART:20260308T070000
END:DAYLIGHT
BEGIN:STANDARD
TZOFFSETFROM:-0400
TZOFFSETTO:-0500
TZNAME:EST
DTSTART:20261101T060000
END:STANDARD
END:VTIMEZONE
BEGIN:VEVENT
DTSTART;TZID=America/Indiana/Indianapolis:20250910T140000
DTEND;TZID=America/Indiana/Indianapolis:20250910T200000
DTSTAMP:20260419T115744
CREATED:20250723T140939Z
LAST-MODIFIED:20251103T190445Z
UID:5776-1757512800-1757534400@indianahealthonline.org
SUMMARY:Mobile Unit - Orestes
DESCRIPTION:
URL:https://indianahealthonline.org/event/mobile-unit-orestes-4/
LOCATION:Indiana
CATEGORIES:IHC Mobile Unit
END:VEVENT
BEGIN:VEVENT
DTSTART;TZID=America/Indiana/Indianapolis:20250908T140000
DTEND;TZID=America/Indiana/Indianapolis:20250908T200000
DTSTAMP:20260419T115744
CREATED:20250723T140704Z
LAST-MODIFIED:20251103T190446Z
UID:5766-1757340000-1757361600@indianahealthonline.org
SUMMARY:Mobile Unit - Geneva
DESCRIPTION:Mobile
URL:https://indianahealthonline.org/event/mobile-unit-geneva-3/
LOCATION:Indiana
CATEGORIES:IHC Mobile Unit
END:VEVENT
BEGIN:VEVENT
DTSTART;TZID=America/Indiana/Indianapolis:20250903T140000
DTEND;TZID=America/Indiana/Indianapolis:20250903T200000
DTSTAMP:20260419T115744
CREATED:20250723T140616Z
LAST-MODIFIED:20251103T190446Z
UID:5764-1756908000-1756929600@indianahealthonline.org
SUMMARY:Mobile Unit - Orestes
DESCRIPTION:
URL:https://indianahealthonline.org/event/mobile-unit-orestes-3/
LOCATION:Indiana
CATEGORIES:IHC Mobile Unit
END:VEVENT
BEGIN:VEVENT
DTSTART;TZID=America/Indiana/Indianapolis:20250827T140000
DTEND;TZID=America/Indiana/Indianapolis:20250827T200000
DTSTAMP:20260419T115744
CREATED:20250723T130452Z
LAST-MODIFIED:20251103T190446Z
UID:5762-1756303200-1756324800@indianahealthonline.org
SUMMARY:Mobile Unit - Orestes
DESCRIPTION:
URL:https://indianahealthonline.org/event/mobile-unit-orestes-2/
LOCATION:Indiana
CATEGORIES:IHC Mobile Unit
END:VEVENT
BEGIN:VEVENT
DTSTART;TZID=America/Indiana/Indianapolis:20250826T110000
DTEND;TZID=America/Indiana/Indianapolis:20250826T180000
DTSTAMP:20260419T115744
CREATED:20250723T130123Z
LAST-MODIFIED:20251103T190503Z
UID:5751-1756206000-1756231200@indianahealthonline.org
SUMMARY:Mobile Unit - Columbus Regional Health
DESCRIPTION:Mob
URL:https://indianahealthonline.org/event/mobile-unit-columbus-regional-health-2/
LOCATION:St. Paul’s Episcopal Church\, 2651 California Street\, Columbus\, IN 47201\, 2651 California Street\, Columbus\, IN\, 47201\, United States
CATEGORIES:IHC Mobile Unit
END:VEVENT
BEGIN:VEVENT
DTSTART;TZID=America/Indiana/Indianapolis:20250825T140000
DTEND;TZID=America/Indiana/Indianapolis:20250825T200000
DTSTAMP:20260419T115744
CREATED:20250723T130415Z
LAST-MODIFIED:20251103T190503Z
UID:5759-1756130400-1756152000@indianahealthonline.org
SUMMARY:Mobile Unit - Geneva
DESCRIPTION:
URL:https://indianahealthonline.org/event/mobile-unit-geneva-2/
LOCATION:Indiana
CATEGORIES:IHC Mobile Unit
END:VEVENT
BEGIN:VEVENT
DTSTART;TZID=America/Indiana/Indianapolis:20250820T140000
DTEND;TZID=America/Indiana/Indianapolis:20250820T200000
DTSTAMP:20260419T115744
CREATED:20250723T130338Z
LAST-MODIFIED:20251103T190503Z
UID:5757-1755698400-1755720000@indianahealthonline.org
SUMMARY:Mobile Unit - Orestes
DESCRIPTION:
URL:https://indianahealthonline.org/event/mobile-unit-orestes/
LOCATION:Indiana
CATEGORIES:IHC Mobile Unit
END:VEVENT
BEGIN:VEVENT
DTSTART;TZID=America/Indiana/Indianapolis:20250818T140000
DTEND;TZID=America/Indiana/Indianapolis:20250818T200000
DTSTAMP:20260419T115744
CREATED:20250723T130257Z
LAST-MODIFIED:20251103T190503Z
UID:5755-1755525600-1755547200@indianahealthonline.org
SUMMARY:Mobile Unit - Geneva
DESCRIPTION:
URL:https://indianahealthonline.org/event/mobile-unit-geneva/
LOCATION:Indiana
CATEGORIES:IHC Mobile Unit
END:VEVENT
BEGIN:VEVENT
DTSTART;TZID=America/Indiana/Indianapolis:20250812T110000
DTEND;TZID=America/Indiana/Indianapolis:20250812T180000
DTSTAMP:20260419T115744
CREATED:20250723T125959Z
LAST-MODIFIED:20251103T190503Z
UID:5748-1754996400-1755021600@indianahealthonline.org
SUMMARY:Mobile Unit - Columbus Regional Health
DESCRIPTION:
URL:https://indianahealthonline.org/event/mobile-unit-columbus-regional-health/
LOCATION:St. Paul’s Episcopal Church\, 2651 California Street\, Columbus\, IN 47201\, 2651 California Street\, Columbus\, IN\, 47201\, United States
CATEGORIES:IHC Mobile Unit
END:VEVENT
BEGIN:VEVENT
DTSTART;TZID=America/Indiana/Indianapolis:20250729T090000
DTEND;TZID=America/Indiana/Indianapolis:20250729T160000
DTSTAMP:20260419T115744
CREATED:20250723T125423Z
LAST-MODIFIED:20251103T190503Z
UID:5745-1753779600-1753804800@indianahealthonline.org
SUMMARY:Mobile Unit - Alexandria\, IN
DESCRIPTION:
URL:https://indianahealthonline.org/event/mobile-unit-alexandria-in/
LOCATION:Indiana
CATEGORIES:IHC Mobile Unit
END:VEVENT
END:VCALENDAR