BEGIN:VCALENDAR
VERSION:2.0
PRODID:-//Indiana Health Centers - ECPv6.15.13//NONSGML v1.0//EN
CALSCALE:GREGORIAN
METHOD:PUBLISH
X-ORIGINAL-URL:https://indianahealthonline.org
X-WR-CALDESC:Events for Indiana Health Centers
REFRESH-INTERVAL;VALUE=DURATION:PT1H
X-Robots-Tag:noindex
X-PUBLISHED-TTL:PT1H
BEGIN:VTIMEZONE
TZID:America/Indiana/Indianapolis
BEGIN:DAYLIGHT
TZOFFSETFROM:-0500
TZOFFSETTO:-0400
TZNAME:EDT
DTSTART:20250309T070000
END:DAYLIGHT
BEGIN:STANDARD
TZOFFSETFROM:-0400
TZOFFSETTO:-0500
TZNAME:EST
DTSTART:20251102T060000
END:STANDARD
BEGIN:DAYLIGHT
TZOFFSETFROM:-0500
TZOFFSETTO:-0400
TZNAME:EDT
DTSTART:20260308T070000
END:DAYLIGHT
BEGIN:STANDARD
TZOFFSETFROM:-0400
TZOFFSETTO:-0500
TZNAME:EST
DTSTART:20261101T060000
END:STANDARD
BEGIN:DAYLIGHT
TZOFFSETFROM:-0500
TZOFFSETTO:-0400
TZNAME:EDT
DTSTART:20270314T070000
END:DAYLIGHT
BEGIN:STANDARD
TZOFFSETFROM:-0400
TZOFFSETTO:-0500
TZNAME:EST
DTSTART:20271107T060000
END:STANDARD
END:VTIMEZONE
BEGIN:VEVENT
DTSTART;TZID=America/Indiana/Indianapolis:20260616T130000
DTEND;TZID=America/Indiana/Indianapolis:20260616T170000
DTSTAMP:20260423T065040
CREATED:20260416T141852Z
LAST-MODIFIED:20260416T141852Z
UID:6910-1781614800-1781629200@indianahealthonline.org
SUMMARY:IHC Mobile Health at Julia Carson Government Center (Indianapolis)
DESCRIPTION:The IHC Mobile Health Unit will be available for onsite appointments at 300 E. Fall Creek Pkwy. North Drive\, Indianapolis\, from 1:00 pm to 5:00 pm. To schedule\, visit our mobile page or call (317) 576-1335.
URL:https://indianahealthonline.org/event/ihc-mobile-health-at-julia-carson-government-center-indianapolis-4/
CATEGORIES:IHC Mobile Unit
END:VEVENT
BEGIN:VEVENT
DTSTART;TZID=America/Indiana/Indianapolis:20260617T090000
DTEND;TZID=America/Indiana/Indianapolis:20260617T170000
DTSTAMP:20260423T065040
CREATED:20260422T131826Z
LAST-MODIFIED:20260422T131826Z
UID:6950-1781686800-1781715600@indianahealthonline.org
SUMMARY:IHC Mobile Health at Castleton Park (Indianapolis)
DESCRIPTION:The IHC Mobile Health Unit will be available for onsite appointments at 8003 Castleway Drive\, Indianapolis\, from 9:00 am to 5:00 pm. To schedule\, visit our mobile page or call (317) 576-1335.
URL:https://indianahealthonline.org/event/ihc-mobile-health-at-castleton-park-indianapolis-7/
CATEGORIES:IHC Mobile Unit
END:VEVENT
BEGIN:VEVENT
DTSTART;TZID=America/Indiana/Indianapolis:20260630T130000
DTEND;TZID=America/Indiana/Indianapolis:20260630T170000
DTSTAMP:20260423T065040
CREATED:20260416T142017Z
LAST-MODIFIED:20260416T142017Z
UID:6912-1782824400-1782838800@indianahealthonline.org
SUMMARY:IHC Mobile Health at Julia Carson Government Center (Indianapolis)
DESCRIPTION:The IHC Mobile Health Unit will be available for onsite appointments at 300 E. Fall Creek Pkwy. North Drive\, Indianapolis\, from 1:00 pm to 5:00 pm. To schedule\, visit our mobile page or call (317) 576-1335.
URL:https://indianahealthonline.org/event/ihc-mobile-health-at-julia-carson-government-center-indianapolis-5/
CATEGORIES:IHC Mobile Unit
END:VEVENT
BEGIN:VEVENT
DTSTART;TZID=America/Indiana/Indianapolis:20260701T090000
DTEND;TZID=America/Indiana/Indianapolis:20260701T170000
DTSTAMP:20260423T065040
CREATED:20260422T131943Z
LAST-MODIFIED:20260422T131943Z
UID:6952-1782896400-1782925200@indianahealthonline.org
SUMMARY:IHC Mobile Health at Castleton Park (Indianapolis)
DESCRIPTION:The IHC Mobile Health Unit will be available for onsite appointments at 8003 Castleway Drive\, Indianapolis\, from 9:00 am to 5:00 pm. To schedule\, visit our mobile page or call (317) 576-1335.
URL:https://indianahealthonline.org/event/ihc-mobile-health-at-castleton-park-indianapolis-8/
CATEGORIES:IHC Mobile Unit
END:VEVENT
BEGIN:VEVENT
DTSTART;TZID=America/Indiana/Indianapolis:20260707T130000
DTEND;TZID=America/Indiana/Indianapolis:20260707T170000
DTSTAMP:20260423T065040
CREATED:20260416T142117Z
LAST-MODIFIED:20260416T142117Z
UID:6914-1783429200-1783443600@indianahealthonline.org
SUMMARY:IHC Mobile Health at Julia Carson Government Center
DESCRIPTION:The IHC Mobile Health Unit will be available for onsite appointments at 300 E. Fall Creek Pkwy. North Drive\, Indianapolis\, from 1:00 pm to 5:00 pm. To schedule\, visit our mobile page or call (317) 576-1335.
URL:https://indianahealthonline.org/event/ihc-mobile-health-at-julia-carson-government-center/
CATEGORIES:IHC Mobile Unit
END:VEVENT
BEGIN:VEVENT
DTSTART;TZID=America/Indiana/Indianapolis:20260708T090000
DTEND;TZID=America/Indiana/Indianapolis:20260708T170000
DTSTAMP:20260423T065040
CREATED:20260422T132023Z
LAST-MODIFIED:20260422T132023Z
UID:6954-1783501200-1783530000@indianahealthonline.org
SUMMARY:IHC Mobile Health at Castleton Park (Indianapolis)
DESCRIPTION:The IHC Mobile Health Unit will be available for onsite appointments at 8003 Castleway Drive\, Indianapolis\, from 9:00 am to 5:00 pm. To schedule\, visit our mobile page or call (317) 576-1335.
URL:https://indianahealthonline.org/event/ihc-mobile-health-at-castleton-park-indianapolis-9/
CATEGORIES:IHC Mobile Unit
END:VEVENT
BEGIN:VEVENT
DTSTART;TZID=America/Indiana/Indianapolis:20260714T130000
DTEND;TZID=America/Indiana/Indianapolis:20260714T170000
DTSTAMP:20260423T065040
CREATED:20260422T142031Z
LAST-MODIFIED:20260422T142031Z
UID:6970-1784034000-1784048400@indianahealthonline.org
SUMMARY:IHC Mobile Health at Matchbook K-8 (Indianapolis)
DESCRIPTION:The IHC Mobile Health Unit will be available for onsite appointments at 1163 N. Belmont Avenue\, Indianapolis\, from 1:00 pm to 5:00 pm. To schedule\, visit our mobile page or call (317) 576-1335.
URL:https://indianahealthonline.org/event/ihc-mobile-health-at-matchbook-k-8-indianapolis-2/
CATEGORIES:IHC Mobile Unit
END:VEVENT
BEGIN:VEVENT
DTSTART;TZID=America/Indiana/Indianapolis:20260715T080000
DTEND;TZID=America/Indiana/Indianapolis:20260715T170000
DTSTAMP:20260423T065040
CREATED:20260422T132108Z
LAST-MODIFIED:20260422T132108Z
UID:6956-1784102400-1784134800@indianahealthonline.org
SUMMARY:IHC Mobile Health at Castleton Park (Indianapolis)
DESCRIPTION:The IHC Mobile Health Unit will be available for onsite appointments at 8003 Castleway Drive\, Indianapolis\, from 9:00 am to 5:00 pm. To schedule\, visit our mobile page or call (317) 576-1335.
URL:https://indianahealthonline.org/event/ihc-mobile-health-at-castleton-park-indianapolis-10/
CATEGORIES:IHC Mobile Unit
END:VEVENT
BEGIN:VEVENT
DTSTART;TZID=America/Indiana/Indianapolis:20260720T120000
DTEND;TZID=America/Indiana/Indianapolis:20260720T160000
DTSTAMP:20260423T065040
CREATED:20260408T162649Z
LAST-MODIFIED:20260408T162649Z
UID:6900-1784548800-1784563200@indianahealthonline.org
SUMMARY:IHC Mobile Health at OrthoIndy YMCA
DESCRIPTION:The IHC Mobile Health Unit will be available for onsite appointments at 5315 Lafayette Rd.\, Indianapolis\, from 12:00pm – 4:00 pm. To schedule\, visit our mobile page or call (317) 576-1335.
URL:https://indianahealthonline.org/event/ihc-mobile-health-at-orthoindy-ymca-3/
CATEGORIES:IHC Mobile Unit
END:VEVENT
BEGIN:VEVENT
DTSTART;TZID=America/Indiana/Indianapolis:20260721T130000
DTEND;TZID=America/Indiana/Indianapolis:20260721T170000
DTSTAMP:20260423T065040
CREATED:20260416T142201Z
LAST-MODIFIED:20260421T151007Z
UID:6916-1784638800-1784653200@indianahealthonline.org
SUMMARY:IHC Mobile Health at Julia Carson Government Center (Indianapolis)
DESCRIPTION:The IHC Mobile Health Unit will be available for onsite appointments at 300 E. Fall Creek Pkwy. North Drive\, Indianapolis\, from 1:00 pm to 5:00 pm. To schedule\, visit our mobile page or call (317) 576-1335.
URL:https://indianahealthonline.org/event/ihc-mobile-health-at-julia-carson-government-center-indianapolis-6/
CATEGORIES:IHC Mobile Unit
ATTACH;FMTTYPE=image/jpeg:https://indianahealthonline.org/wp-content/uploads/2025/05/IHC-Mobile-Unit.jpg
END:VEVENT
BEGIN:VEVENT
DTSTART;TZID=America/Indiana/Indianapolis:20260722T090000
DTEND;TZID=America/Indiana/Indianapolis:20260722T170000
DTSTAMP:20260423T065040
CREATED:20260422T132215Z
LAST-MODIFIED:20260422T132215Z
UID:6958-1784710800-1784739600@indianahealthonline.org
SUMMARY:IHC Mobile Health at Castleton Park (Indianapolis)
DESCRIPTION:The IHC Mobile Health Unit will be available for onsite appointments at 8003 Castleway Drive\, Indianapolis\, from 9:00 am to 5:00 pm. To schedule\, visit our mobile page or call (317) 576-1335.
URL:https://indianahealthonline.org/event/ihc-mobile-health-at-castleton-park-indianapolis-11/
CATEGORIES:IHC Mobile Unit
END:VEVENT
BEGIN:VEVENT
DTSTART;TZID=America/Indiana/Indianapolis:20260729T090000
DTEND;TZID=America/Indiana/Indianapolis:20260729T170000
DTSTAMP:20260423T065040
CREATED:20260422T132258Z
LAST-MODIFIED:20260422T132258Z
UID:6960-1785315600-1785344400@indianahealthonline.org
SUMMARY:IHC Mobile Health at Castleton Park (Indianapolis)
DESCRIPTION:The IHC Mobile Health Unit will be available for onsite appointments at 8003 Castleway Drive\, Indianapolis\, from 9:00 am to 5:00 pm. To schedule\, visit our mobile page or call (317) 576-1335.
URL:https://indianahealthonline.org/event/ihc-mobile-health-at-castleton-park-indianapolis-12/
CATEGORIES:IHC Mobile Unit
END:VEVENT
END:VCALENDAR