BEGIN:VCALENDAR
VERSION:2.0
PRODID:-//Indiana Health Centers - ECPv6.15.13//NONSGML v1.0//EN
CALSCALE:GREGORIAN
METHOD:PUBLISH
X-ORIGINAL-URL:https://indianahealthonline.org
X-WR-CALDESC:Events for Indiana Health Centers
REFRESH-INTERVAL;VALUE=DURATION:PT1H
X-Robots-Tag:noindex
X-PUBLISHED-TTL:PT1H
BEGIN:VTIMEZONE
TZID:America/Indiana/Indianapolis
BEGIN:DAYLIGHT
TZOFFSETFROM:-0500
TZOFFSETTO:-0400
TZNAME:EDT
DTSTART:20250309T070000
END:DAYLIGHT
BEGIN:STANDARD
TZOFFSETFROM:-0400
TZOFFSETTO:-0500
TZNAME:EST
DTSTART:20251102T060000
END:STANDARD
BEGIN:DAYLIGHT
TZOFFSETFROM:-0500
TZOFFSETTO:-0400
TZNAME:EDT
DTSTART:20260308T070000
END:DAYLIGHT
BEGIN:STANDARD
TZOFFSETFROM:-0400
TZOFFSETTO:-0500
TZNAME:EST
DTSTART:20261101T060000
END:STANDARD
BEGIN:DAYLIGHT
TZOFFSETFROM:-0500
TZOFFSETTO:-0400
TZNAME:EDT
DTSTART:20270314T070000
END:DAYLIGHT
BEGIN:STANDARD
TZOFFSETFROM:-0400
TZOFFSETTO:-0500
TZNAME:EST
DTSTART:20271107T060000
END:STANDARD
END:VTIMEZONE
BEGIN:VEVENT
DTSTART;TZID=America/Indiana/Indianapolis:20260401T090000
DTEND;TZID=America/Indiana/Indianapolis:20260401T170000
DTSTAMP:20260423T065040
CREATED:20260311T181222Z
LAST-MODIFIED:20260311T183412Z
UID:6802-1775034000-1775062800@indianahealthonline.org
SUMMARY:IHC Mobile Health at Castleton Park
DESCRIPTION:The IHC Mobile Health Unit will be available for onsite appointments at 8003 Castleway Drive\, Indianapolis\, from 9:00 am to 5:00 pm. To schedule\, visit our mobile page or call (317) 576-1335.
URL:https://indianahealthonline.org/event/ihc-mobile-health-at-castleton-park-8/
LOCATION:IHC Corporate\, 8003 Castleway Drive\, Indianapolis\, IN\, USA\, Indianapolis\, IN\, 46250\, United States
CATEGORIES:IHC Mobile Unit
END:VEVENT
BEGIN:VEVENT
DTSTART;TZID=America/Indiana/Indianapolis:20260407T110000
DTEND;TZID=America/Indiana/Indianapolis:20260407T150000
DTSTAMP:20260423T065040
CREATED:20260317T124456Z
LAST-MODIFIED:20260317T124456Z
UID:6877-1775559600-1775574000@indianahealthonline.org
SUMMARY:IHC Mobile Health at St. Margaret's House
DESCRIPTION:The IHC Mobile Health Unit will be available for onsite appointments at 117 N. Lafayette Rd.\, South Bend\, from 11:00 am to 3:00 pm. To schedule\, visit our mobile page or call (317) 576-1335.
URL:https://indianahealthonline.org/event/ihc-mobile-health-at-st-margarets-house-3/
CATEGORIES:IHC Mobile Unit
END:VEVENT
BEGIN:VEVENT
DTSTART;TZID=America/Indiana/Indianapolis:20260408T090000
DTEND;TZID=America/Indiana/Indianapolis:20260408T170000
DTSTAMP:20260423T065040
CREATED:20260311T181304Z
LAST-MODIFIED:20260311T183552Z
UID:6804-1775638800-1775667600@indianahealthonline.org
SUMMARY:IHC Mobile Health at Castleton Park
DESCRIPTION:The IHC Mobile Health Unit will be available for onsite appointments at 8003 Castleway Drive\, Indianapolis\, from 9:00 am to 5:00 pm. To schedule\, visit our mobile page or call (317) 576-1335.
URL:https://indianahealthonline.org/event/ihc-mobile-health-at-castleton-park-9/
LOCATION:IHC Corporate\, 8003 Castleway Drive\, Indianapolis\, IN\, USA\, Indianapolis\, IN\, 46250\, United States
CATEGORIES:IHC Mobile Unit
END:VEVENT
BEGIN:VEVENT
DTSTART;TZID=America/Indiana/Indianapolis:20260409T130000
DTEND;TZID=America/Indiana/Indianapolis:20260409T170000
DTSTAMP:20260423T065040
CREATED:20260311T203254Z
LAST-MODIFIED:20260311T203254Z
UID:6831-1775739600-1775754000@indianahealthonline.org
SUMMARY:IHC Mobile Health at Hawthorne Community Center (Indianapolis)
DESCRIPTION:The IHC Mobile Health Unit will be available for onsite appointments at 2440 W. Ohio Street\, Indianapolis\, from 1:00 pm to 5:00 pm. To schedule\, visit our mobile page or call (317) 576-1335.
URL:https://indianahealthonline.org/event/ihc-mobile-health-at-hawthorne-community-center-indianapolis-2/
LOCATION:Hawthorne Community Center\, 2440 W. Ohio Street\, Indianapolis\, IN\, 46222\, United States
CATEGORIES:IHC Mobile Unit
END:VEVENT
BEGIN:VEVENT
DTSTART;TZID=America/Indiana/Indianapolis:20260414T100000
DTEND;TZID=America/Indiana/Indianapolis:20260414T120000
DTSTAMP:20260423T065040
CREATED:20260311T204227Z
LAST-MODIFIED:20260311T204227Z
UID:6833-1776160800-1776168000@indianahealthonline.org
SUMMARY:IHC Mobile Health at Hope Apartments (South Bend)
DESCRIPTION:The IHC Mobile Health Unit will be available for onsite appointments at 2923 Hope Avenue\, South Bend\, from 10:00 am to 12:00 pm. To schedule\, visit our mobile page or call (317) 576-1335.
URL:https://indianahealthonline.org/event/ihc-mobile-health-at-hope-apartments-south-bend/
LOCATION:Hope Apartments\, 2923 Hope Avenue\, South Bend\, Indiana
CATEGORIES:IHC Mobile Unit
END:VEVENT
BEGIN:VEVENT
DTSTART;TZID=America/Indiana/Indianapolis:20260414T130000
DTEND;TZID=America/Indiana/Indianapolis:20260414T150000
DTSTAMP:20260423T065040
CREATED:20260311T204927Z
LAST-MODIFIED:20260311T204927Z
UID:6835-1776171600-1776178800@indianahealthonline.org
SUMMARY:IHC Mobile Health at Oliver Apartments (South Bend)
DESCRIPTION:The IHC Mobile Health Unit will be available for onsite appointments at 924 W. Indiana Avenue\, South Bend\, from 1:00 pm to 3:00 pm. To schedule\, visit our mobile page or call (317) 576-1335.
URL:https://indianahealthonline.org/event/ihc-mobile-health-at-oliver-apartments-south-bend/
LOCATION:Oliver Apartments\, 924 W. Indiana Avenue\, South Bend\, Indiana
CATEGORIES:IHC Mobile Unit
END:VEVENT
BEGIN:VEVENT
DTSTART;TZID=America/Indiana/Indianapolis:20260415T090000
DTEND;TZID=America/Indiana/Indianapolis:20260415T170000
DTSTAMP:20260423T065040
CREATED:20260311T181403Z
LAST-MODIFIED:20260311T183729Z
UID:6806-1776243600-1776272400@indianahealthonline.org
SUMMARY:IHC Mobile Health at Castleton Park
DESCRIPTION:The IHC Mobile Health Unit will be available for onsite appointments at 8003 Castleway Drive\, Indianapolis\, from 9:00 am to 5:00 pm. To schedule\, visit our mobile page or call (317) 576-1335.
URL:https://indianahealthonline.org/event/ihc-mobile-health-at-castleton-park-10/
LOCATION:IHC Corporate\, 8003 Castleway Drive\, Indianapolis\, IN\, USA\, Indianapolis\, IN\, 46250\, United States
CATEGORIES:IHC Mobile Unit
END:VEVENT
BEGIN:VEVENT
DTSTART;TZID=America/Indiana/Indianapolis:20260421T110000
DTEND;TZID=America/Indiana/Indianapolis:20260421T150000
DTSTAMP:20260423T065040
CREATED:20260311T201803Z
LAST-MODIFIED:20260311T201803Z
UID:6824-1776769200-1776783600@indianahealthonline.org
SUMMARY:IHC Mobile Health at St. Margaret's House
DESCRIPTION:The IHC Mobile Health Unit will be available for onsite appointments at 117 N. Lafayette Rd.\, South Bend\, from 11:00 am to 3:00 pm. To schedule\, visit our mobile page or call (317) 576-1335.
URL:https://indianahealthonline.org/event/ihc-mobile-health-at-st-margarets-house-2/
LOCATION:St. Margaret’s House\, 117 N Lafayette Blvd\, South Bend\, Indiana
CATEGORIES:IHC Mobile Unit
END:VEVENT
BEGIN:VEVENT
DTSTART;TZID=America/Indiana/Indianapolis:20260422T090000
DTEND;TZID=America/Indiana/Indianapolis:20260422T170000
DTSTAMP:20260423T065040
CREATED:20260311T182112Z
LAST-MODIFIED:20260311T183913Z
UID:6808-1776848400-1776877200@indianahealthonline.org
SUMMARY:IHC Mobile Health at Castleton Park
DESCRIPTION:The IHC Mobile Health Unit will be available for onsite appointments at 8003 Castleway Drive\, Indianapolis\, from 9:00 am to 5:00 pm. To schedule\, visit our mobile page or call (317) 576-1335.
URL:https://indianahealthonline.org/event/ihc-mobile-health-at-castleton-park-11/
LOCATION:IHC Corporate\, 8003 Castleway Drive\, Indianapolis\, IN\, USA\, Indianapolis\, IN\, 46250\, United States
CATEGORIES:IHC Mobile Unit
END:VEVENT
BEGIN:VEVENT
DTSTART;TZID=America/Indiana/Indianapolis:20260427T090000
DTEND;TZID=America/Indiana/Indianapolis:20260427T160000
DTSTAMP:20260423T065040
CREATED:20260311T201401Z
LAST-MODIFIED:20260311T201401Z
UID:6821-1777280400-1777305600@indianahealthonline.org
SUMMARY:IHC Mobile Health at Mexican Consulate
DESCRIPTION:The IHC Mobile Health Unit will be available for onsite appointments at 331 S. East Street\, Indianapolis\, IN 46204\, from 9:00 am to 4:00 pm. To schedule\, visit our mobile page or call (317) 576-1335.
URL:https://indianahealthonline.org/event/ihc-mobile-health-at-mexican-consulate/
LOCATION:Mexican Consulate\, 331 S. East Street\, Indianapolis\, IN\, 46204\, United States
CATEGORIES:IHC Mobile Unit
END:VEVENT
BEGIN:VEVENT
DTSTART;TZID=America/Indiana/Indianapolis:20260429T090000
DTEND;TZID=America/Indiana/Indianapolis:20260429T170000
DTSTAMP:20260423T065040
CREATED:20260311T182156Z
LAST-MODIFIED:20260311T184019Z
UID:6810-1777453200-1777482000@indianahealthonline.org
SUMMARY:IHC Mobile Health at Castleton Park
DESCRIPTION:The IHC Mobile Health Unit will be available for onsite appointments at 8003 Castleway Drive\, Indianapolis\, from 9:00 am to 5:00 pm. To schedule\, visit our mobile page or call (317) 576-1335.
URL:https://indianahealthonline.org/event/ihc-mobile-health-at-castleton-park-12/
LOCATION:IHC Corporate\, 8003 Castleway Drive\, Indianapolis\, IN\, USA\, Indianapolis\, IN\, 46250\, United States
CATEGORIES:IHC Mobile Unit
END:VEVENT
BEGIN:VEVENT
DTSTART;TZID=America/Indiana/Indianapolis:20260506T090000
DTEND;TZID=America/Indiana/Indianapolis:20260506T170000
DTSTAMP:20260423T065040
CREATED:20260421T154939Z
LAST-MODIFIED:20260421T154939Z
UID:6936-1778058000-1778086800@indianahealthonline.org
SUMMARY:IHC Mobile Health at Castleton Park (Indianapolis)
DESCRIPTION:The IHC Mobile Health Unit will be available for onsite appointments at 8003 Castleway Drive\, Indianapolis\, from 9:00 am to 5:00 pm. To schedule\, visit our mobile page or call (317) 576-1335.
URL:https://indianahealthonline.org/event/ihc-mobile-health-at-castleton-park-indianapolis/
CATEGORIES:IHC Mobile Unit
END:VEVENT
BEGIN:VEVENT
DTSTART;TZID=America/Indiana/Indianapolis:20260511T120000
DTEND;TZID=America/Indiana/Indianapolis:20260511T160000
DTSTAMP:20260423T065040
CREATED:20260408T162528Z
LAST-MODIFIED:20260408T162528Z
UID:6896-1778500800-1778515200@indianahealthonline.org
SUMMARY:IHC Mobile Health at OrthoIndy YMCA
DESCRIPTION:The IHC Mobile Health Unit will be available for onsite appointments at 5315 Lafayette Rd.\, Indianapolis\, from 12:00pm – 4:00 pm. To schedule\, visit our mobile page or call (317) 576-1335.
URL:https://indianahealthonline.org/event/ihc-mobile-health-at-orthoindy-ymca/
CATEGORIES:IHC Mobile Unit
END:VEVENT
BEGIN:VEVENT
DTSTART;TZID=America/Indiana/Indianapolis:20260512T130000
DTEND;TZID=America/Indiana/Indianapolis:20260512T170000
DTSTAMP:20260423T065040
CREATED:20260416T141653Z
LAST-MODIFIED:20260422T141223Z
UID:6906-1778590800-1778605200@indianahealthonline.org
SUMMARY:IHC Mobile Health at Julia Carson Government Center (Indianapolis)
DESCRIPTION:The IHC Mobile Health Unit will be available for onsite appointments at 300 E. Fall Creek Pkwy. North Drive\, Indianapolis\, from 1:00 pm to 5:00 pm. To schedule\, visit our mobile page or call (317) 576-1335.
URL:https://indianahealthonline.org/event/ihc-mobile-health-at-julia-carson-government-center-indianapolis-2/
CATEGORIES:IHC Mobile Unit
END:VEVENT
BEGIN:VEVENT
DTSTART;TZID=America/Indiana/Indianapolis:20260513T090000
DTEND;TZID=America/Indiana/Indianapolis:20260513T170000
DTSTAMP:20260423T065040
CREATED:20260421T155036Z
LAST-MODIFIED:20260421T155036Z
UID:6938-1778662800-1778691600@indianahealthonline.org
SUMMARY:IHC Mobile Health at Castleton Park (Indianapolis)
DESCRIPTION:The IHC Mobile Health Unit will be available for onsite appointments at 8003 Castleway Drive\, Indianapolis\, from 9:00 am to 5:00 pm. To schedule\, visit our mobile page or call (317) 576-1335.
URL:https://indianahealthonline.org/event/ihc-mobile-health-at-castleton-park-indianapolis-2/
CATEGORIES:IHC Mobile Unit
END:VEVENT
BEGIN:VEVENT
DTSTART;TZID=America/Indiana/Indianapolis:20260519T130000
DTEND;TZID=America/Indiana/Indianapolis:20260519T170000
DTSTAMP:20260423T065040
CREATED:20260422T141835Z
LAST-MODIFIED:20260422T141835Z
UID:6966-1779195600-1779210000@indianahealthonline.org
SUMMARY:IHC Mobile Health at Matchbook K-8
DESCRIPTION:The IHC Mobile Health Unit will be available for onsite appointments at 1163 N. Belmont Avenue\, Indianapolis\, from 1:00 pm to 5:00 pm. To schedule\, visit our mobile page or call (317) 576-1335.
URL:https://indianahealthonline.org/event/ihc-mobile-health-at-matchbook-k-8/
CATEGORIES:IHC Mobile Unit
END:VEVENT
BEGIN:VEVENT
DTSTART;TZID=America/Indiana/Indianapolis:20260520T090000
DTEND;TZID=America/Indiana/Indianapolis:20260520T170000
DTSTAMP:20260423T065040
CREATED:20260421T155131Z
LAST-MODIFIED:20260421T155131Z
UID:6940-1779267600-1779296400@indianahealthonline.org
SUMMARY:IHC Mobile Health at Castleton Park (Indianapolis)
DESCRIPTION:The IHC Mobile Health Unit will be available for onsite appointments at 8003 Castleway Drive\, Indianapolis\, from 9:00 am to 5:00 pm. To schedule\, visit our mobile page or call (317) 576-1335.
URL:https://indianahealthonline.org/event/ihc-mobile-health-at-castleton-park-indianapolis-3/
CATEGORIES:IHC Mobile Unit
END:VEVENT
BEGIN:VEVENT
DTSTART;TZID=America/Indiana/Indianapolis:20260526T130000
DTEND;TZID=America/Indiana/Indianapolis:20260526T170000
DTSTAMP:20260423T065040
CREATED:20260416T141743Z
LAST-MODIFIED:20260416T141743Z
UID:6908-1779800400-1779814800@indianahealthonline.org
SUMMARY:IHC Mobile Health at Julia Carson Government Center (Indianapolis)
DESCRIPTION:The IHC Mobile Health Unit will be available for onsite appointments at 300 E. Fall Creek Pkwy. North Drive\, Indianapolis\, from 1:00 pm to 5:00 pm. To schedule\, visit our mobile page or call (317) 576-1335.
URL:https://indianahealthonline.org/event/ihc-mobile-health-at-julia-carson-government-center-indianapolis-3/
CATEGORIES:IHC Mobile Unit
END:VEVENT
BEGIN:VEVENT
DTSTART;TZID=America/Indiana/Indianapolis:20260527T090000
DTEND;TZID=America/Indiana/Indianapolis:20260527T170000
DTSTAMP:20260423T065040
CREATED:20260421T155254Z
LAST-MODIFIED:20260421T155254Z
UID:6942-1779872400-1779901200@indianahealthonline.org
SUMMARY:IHC Mobile Health at Castleton Park (Indianapolis)
DESCRIPTION:The IHC Mobile Health Unit will be available for onsite appointments at 8003 Castleway Drive\, Indianapolis\, from 9:00 am to 5:00 pm. To schedule\, visit our mobile page or call (317) 576-1335.
URL:https://indianahealthonline.org/event/ihc-mobile-health-at-castleton-park-indianapolis-4/
CATEGORIES:IHC Mobile Unit
END:VEVENT
BEGIN:VEVENT
DTSTART;TZID=America/Indiana/Indianapolis:20260603T090000
DTEND;TZID=America/Indiana/Indianapolis:20260603T170000
DTSTAMP:20260423T065040
CREATED:20260421T155512Z
LAST-MODIFIED:20260421T155512Z
UID:6944-1780477200-1780506000@indianahealthonline.org
SUMMARY:IHC Mobile Health at Castleton Park (Indianapolis)
DESCRIPTION:The IHC Mobile Health Unit will be available for onsite appointments at 8003 Castleway Drive\, Indianapolis\, from 9:00 am to 5:00 pm. To schedule\, visit our mobile page or call (317) 576-1335.
URL:https://indianahealthonline.org/event/ihc-mobile-health-at-castleton-park-indianapolis-5/
CATEGORIES:IHC Mobile Unit
END:VEVENT
BEGIN:VEVENT
DTSTART;TZID=America/Indiana/Indianapolis:20260609T130000
DTEND;TZID=America/Indiana/Indianapolis:20260609T170000
DTSTAMP:20260423T065040
CREATED:20260422T141931Z
LAST-MODIFIED:20260422T141931Z
UID:6968-1781010000-1781024400@indianahealthonline.org
SUMMARY:IHC Mobile Health at Matchbook K-8 (Indianapolis)
DESCRIPTION:The IHC Mobile Health Unit will be available for onsite appointments at 1163 N. Belmont Avenue\, Indianapolis\, from 1:00 pm to 5:00 pm. To schedule\, visit our mobile page or call (317) 576-1335.
URL:https://indianahealthonline.org/event/ihc-mobile-health-at-matchbook-k-8-indianapolis/
CATEGORIES:IHC Mobile Unit
END:VEVENT
BEGIN:VEVENT
DTSTART;TZID=America/Indiana/Indianapolis:20260610T090000
DTEND;TZID=America/Indiana/Indianapolis:20260610T170000
DTSTAMP:20260423T065040
CREATED:20260422T131752Z
LAST-MODIFIED:20260422T131752Z
UID:6948-1781082000-1781110800@indianahealthonline.org
SUMMARY:IHC Mobile Health at Castleton Park (Indianapolis)
DESCRIPTION:The IHC Mobile Health Unit will be available for onsite appointments at 8003 Castleway Drive\, Indianapolis\, from 9:00 am to 5:00 pm. To schedule\, visit our mobile page or call (317) 576-1335.
URL:https://indianahealthonline.org/event/ihc-mobile-health-at-castleton-park-indianapolis-6/
CATEGORIES:IHC Mobile Unit
END:VEVENT
BEGIN:VEVENT
DTSTART;TZID=America/Indiana/Indianapolis:20260615T120000
DTEND;TZID=America/Indiana/Indianapolis:20260615T160000
DTSTAMP:20260423T065040
CREATED:20260408T162610Z
LAST-MODIFIED:20260408T162610Z
UID:6898-1781524800-1781539200@indianahealthonline.org
SUMMARY:IHC Mobile Health at OrthoIndy YMCA
DESCRIPTION:The IHC Mobile Health Unit will be available for onsite appointments at 5315 Lafayette Rd.\, Indianapolis\, from 12:00pm – 4:00 pm. To schedule\, visit our mobile page or call (317) 576-1335.
URL:https://indianahealthonline.org/event/ihc-mobile-health-at-orthoindy-ymca-2/
CATEGORIES:IHC Mobile Unit
END:VEVENT
BEGIN:VEVENT
DTSTART;TZID=America/Indiana/Indianapolis:20260616T130000
DTEND;TZID=America/Indiana/Indianapolis:20260616T170000
DTSTAMP:20260423T065040
CREATED:20260416T141852Z
LAST-MODIFIED:20260416T141852Z
UID:6910-1781614800-1781629200@indianahealthonline.org
SUMMARY:IHC Mobile Health at Julia Carson Government Center (Indianapolis)
DESCRIPTION:The IHC Mobile Health Unit will be available for onsite appointments at 300 E. Fall Creek Pkwy. North Drive\, Indianapolis\, from 1:00 pm to 5:00 pm. To schedule\, visit our mobile page or call (317) 576-1335.
URL:https://indianahealthonline.org/event/ihc-mobile-health-at-julia-carson-government-center-indianapolis-4/
CATEGORIES:IHC Mobile Unit
END:VEVENT
BEGIN:VEVENT
DTSTART;TZID=America/Indiana/Indianapolis:20260617T090000
DTEND;TZID=America/Indiana/Indianapolis:20260617T170000
DTSTAMP:20260423T065040
CREATED:20260422T131826Z
LAST-MODIFIED:20260422T131826Z
UID:6950-1781686800-1781715600@indianahealthonline.org
SUMMARY:IHC Mobile Health at Castleton Park (Indianapolis)
DESCRIPTION:The IHC Mobile Health Unit will be available for onsite appointments at 8003 Castleway Drive\, Indianapolis\, from 9:00 am to 5:00 pm. To schedule\, visit our mobile page or call (317) 576-1335.
URL:https://indianahealthonline.org/event/ihc-mobile-health-at-castleton-park-indianapolis-7/
CATEGORIES:IHC Mobile Unit
END:VEVENT
BEGIN:VEVENT
DTSTART;TZID=America/Indiana/Indianapolis:20260630T130000
DTEND;TZID=America/Indiana/Indianapolis:20260630T170000
DTSTAMP:20260423T065040
CREATED:20260416T142017Z
LAST-MODIFIED:20260416T142017Z
UID:6912-1782824400-1782838800@indianahealthonline.org
SUMMARY:IHC Mobile Health at Julia Carson Government Center (Indianapolis)
DESCRIPTION:The IHC Mobile Health Unit will be available for onsite appointments at 300 E. Fall Creek Pkwy. North Drive\, Indianapolis\, from 1:00 pm to 5:00 pm. To schedule\, visit our mobile page or call (317) 576-1335.
URL:https://indianahealthonline.org/event/ihc-mobile-health-at-julia-carson-government-center-indianapolis-5/
CATEGORIES:IHC Mobile Unit
END:VEVENT
BEGIN:VEVENT
DTSTART;TZID=America/Indiana/Indianapolis:20260701T090000
DTEND;TZID=America/Indiana/Indianapolis:20260701T170000
DTSTAMP:20260423T065040
CREATED:20260422T131943Z
LAST-MODIFIED:20260422T131943Z
UID:6952-1782896400-1782925200@indianahealthonline.org
SUMMARY:IHC Mobile Health at Castleton Park (Indianapolis)
DESCRIPTION:The IHC Mobile Health Unit will be available for onsite appointments at 8003 Castleway Drive\, Indianapolis\, from 9:00 am to 5:00 pm. To schedule\, visit our mobile page or call (317) 576-1335.
URL:https://indianahealthonline.org/event/ihc-mobile-health-at-castleton-park-indianapolis-8/
CATEGORIES:IHC Mobile Unit
END:VEVENT
BEGIN:VEVENT
DTSTART;TZID=America/Indiana/Indianapolis:20260707T130000
DTEND;TZID=America/Indiana/Indianapolis:20260707T170000
DTSTAMP:20260423T065040
CREATED:20260416T142117Z
LAST-MODIFIED:20260416T142117Z
UID:6914-1783429200-1783443600@indianahealthonline.org
SUMMARY:IHC Mobile Health at Julia Carson Government Center
DESCRIPTION:The IHC Mobile Health Unit will be available for onsite appointments at 300 E. Fall Creek Pkwy. North Drive\, Indianapolis\, from 1:00 pm to 5:00 pm. To schedule\, visit our mobile page or call (317) 576-1335.
URL:https://indianahealthonline.org/event/ihc-mobile-health-at-julia-carson-government-center/
CATEGORIES:IHC Mobile Unit
END:VEVENT
BEGIN:VEVENT
DTSTART;TZID=America/Indiana/Indianapolis:20260708T090000
DTEND;TZID=America/Indiana/Indianapolis:20260708T170000
DTSTAMP:20260423T065040
CREATED:20260422T132023Z
LAST-MODIFIED:20260422T132023Z
UID:6954-1783501200-1783530000@indianahealthonline.org
SUMMARY:IHC Mobile Health at Castleton Park (Indianapolis)
DESCRIPTION:The IHC Mobile Health Unit will be available for onsite appointments at 8003 Castleway Drive\, Indianapolis\, from 9:00 am to 5:00 pm. To schedule\, visit our mobile page or call (317) 576-1335.
URL:https://indianahealthonline.org/event/ihc-mobile-health-at-castleton-park-indianapolis-9/
CATEGORIES:IHC Mobile Unit
END:VEVENT
BEGIN:VEVENT
DTSTART;TZID=America/Indiana/Indianapolis:20260714T130000
DTEND;TZID=America/Indiana/Indianapolis:20260714T170000
DTSTAMP:20260423T065040
CREATED:20260422T142031Z
LAST-MODIFIED:20260422T142031Z
UID:6970-1784034000-1784048400@indianahealthonline.org
SUMMARY:IHC Mobile Health at Matchbook K-8 (Indianapolis)
DESCRIPTION:The IHC Mobile Health Unit will be available for onsite appointments at 1163 N. Belmont Avenue\, Indianapolis\, from 1:00 pm to 5:00 pm. To schedule\, visit our mobile page or call (317) 576-1335.
URL:https://indianahealthonline.org/event/ihc-mobile-health-at-matchbook-k-8-indianapolis-2/
CATEGORIES:IHC Mobile Unit
END:VEVENT
END:VCALENDAR